BEGIN:VCALENDAR
VERSION:2.0
PRODID:spatie/icalendar-generator
DESCRIPTION:九州ゴルフ倶楽部 八幡コースのイベント
X-WR-CALDESC:九州ゴルフ倶楽部 八幡コースのイベント
REFRESH-INTERVAL;VALUE=DURATION:PT1440M
X-PUBLISHED-TTL:PT1440M
BEGIN:VTIMEZONE
TZID:Asia/Tokyo
BEGIN:STANDARD
DTSTART:20250806T000000Z
TZOFFSETFROM:+0900
TZOFFSETTO:+0900
END:STANDARD
END:VTIMEZONE
BEGIN:VTIMEZONE
TZID:UTC
BEGIN:STANDARD
DTSTART:20250723T150755Z
TZOFFSETFROM:+0000
TZOFFSETTO:+0000
END:STANDARD
END:VTIMEZONE
BEGIN:VEVENT
UID:333-90
DTSTAMP:20260419T150755Z
SUMMARY:祝日（憲法記念日）
LOCATION:
ORGANIZER;CN=yahata:MAILTO:susaki@kg-yahata.co.jp
DTSTART;TZID=Asia/Tokyo;VALUE=DATE:20260503
DTEND;TZID=Asia/Tokyo;VALUE=DATE:20260504
X-ALT-DESC;FMTTYPE=TEXT/HTML:
CATEGORIES:祝日
URL;VALUE=URI:https://kg-yahata.com/mc-events/%e7%a5%9d%e6%97%a5%ef%bc%88%e
 6%86%b2%e6%b3%95%e8%a8%98%e5%bf%b5%e6%97%a5%ef%bc%89/
METHOD:PUBLISH
END:VEVENT
END:VCALENDAR